BEGIN:VCALENDAR
VERSION:2.0
PRODID:icalendar-ruby
CALSCALE:GREGORIAN
METHOD:PUBLISH
BEGIN:VEVENT
DTSTAMP:20260426T033710Z
UID:25-363917@pjgaglardiacademy.ca
DTSTART;VALUE=DATE:20261026
DTEND;VALUE=DATE:20261026
CLASS:PUBLIC
CREATED:20260425T173449
DESCRIPTION:It's a Formal Uniform day! Your formal uniform must be worn all
  day. If you are unsure of how to wear your uniform\, please see the Unifo
 rm Requirements document or High School Student Handbook for specifics. To
  view it online\, follow this link: https://www.pjgaglardiacademy.ca/paren
 t-portal/uniforms.
LAST-MODIFIED:20260425T173449
LOCATION:
SUMMARY:Formal Uniform
URL;VALUE=URI:https://www.pjgaglardiacademy.ca/events/formal-uniform/2026-1
 0-26
END:VEVENT
END:VCALENDAR
